BEGIN:VCALENDAR
VERSION:2.0
PRODID:-//Office de tourisme Aumale blangy sur bresle - ECPv6.0.9//NONSGML v1.0//EN
CALSCALE:GREGORIAN
METHOD:PUBLISH
X-ORIGINAL-URL:https://www.devtis.tourisme-aumale-blangy.fr
X-WR-CALDESC:évènements pour Office de tourisme Aumale blangy sur bresle
REFRESH-INTERVAL;VALUE=DURATION:PT1H
X-Robots-Tag:noindex
X-PUBLISHED-TTL:PT1H
BEGIN:VTIMEZONE
TZID:Europe/Paris
BEGIN:DAYLIGHT
TZOFFSETFROM:+0100
TZOFFSETTO:+0200
TZNAME:CEST
DTSTART:20230326T010000
END:DAYLIGHT
BEGIN:STANDARD
TZOFFSETFROM:+0200
TZOFFSETTO:+0100
TZNAME:CET
DTSTART:20231029T010000
END:STANDARD
END:VTIMEZONE
BEGIN:VEVENT
DTSTART;VALUE=DATE:20231023
DTEND;VALUE=DATE:20231104
DTSTAMP:20260426T005617
CREATED:20201008T160544Z
LAST-MODIFIED:20231009T130943Z
UID:55873-1698019200-1699055999@www.devtis.tourisme-aumale-blangy.fr
SUMMARY:Halloween au Château de Rambures
DESCRIPTION:  \nDu Lundi 23 octobre au Vendredi 3 Novembre\, venez-vous amuser au château de Rambures.\n  \nAu programme : \nA l’occasion d’Halloween\, le château fort de Rambures organise des après-midi récréatives. Enfin … récréative … voici un bien grand mot !  \nPour pouvoir sortir de la forteresse hantée vous devrez trouver au moins 8 éléments de la recette magique … et pas seulement puisque les habitants du château seront chargés de remplir votre bulletin / diplôme de survie pendant que vous participerez à cette épreuve. Attention\, si vous n’avez pas la moyenne\, les habitants vous garderons pour toujours dans les couloirs du temps à moins qu’ils vous laissent dans l’antre de la sorcière spécialement ouverte dans les caves du château ! Alors tremblez et riez jeunes mortels !\n \nUn conseil : venez costumés\, cela vous rapportera quelques points supplémentaires nécessaires à votre survie… \n\nHoraires : Tous les jours sauf le mercredi de 14h à 18h (dernières admissions à 17h).\n\nLes tarifs restent inchangés : 12.00€/Adulte – 8.00€/Enfant \nAccès au parc / château / jeux et activités \nInfos : 03 22 25 10 93 – www.chateau-rambures-picardie.fr
URL:https://www.devtis.tourisme-aumale-blangy.fr/agenda/halloween-au-chateau-de-rambures/
LOCATION:Château de Rambures\, 8 Rue du Château\, 80140 Rambures\, Rambures\, 80140\, France
CATEGORIES:Adulte,Animations,Autre,Carnaval,Contes et jeux,Enfants,Mise en avant sur l'accueil,Portes Ouvertes,Tradition et folklore,Visite
ATTACH;FMTTYPE=image/jpeg:https://www.devtis.tourisme-aumale-blangy.fr/wp-content/uploads/Halloween-au-château©Pixabay.jpg
END:VEVENT
BEGIN:VEVENT
DTSTART;VALUE=DATE:20231105
DTEND;VALUE=DATE:20231107
DTSTAMP:20260426T005617
CREATED:20200405T214754Z
LAST-MODIFIED:20231026T115124Z
UID:28549-1699146000-1699232399@www.devtis.tourisme-aumale-blangy.fr
SUMMARY:Bourse aux jouets à Quincampoix-Fleuzy
DESCRIPTION:De 9h00 à 17h00 – Vente de vêtements\, jouets\, puériculture\, livre\, etc…\nA la salle des fêtes \nTarif : 2.00€/table \nEntrée libre pour les visiteurs \nBuvette et restauration sur place \nRéservations : 06 71 03 36 73
URL:https://www.devtis.tourisme-aumale-blangy.fr/agenda/bourse-aux-jouets-a-quincampoix-fleuzy/
LOCATION:Salle des fêtes de Quincampoix Fleuzy\, 60220
CATEGORIES:Adulte,Autre,Brocante,Marché,Vide greniers Braderie
ATTACH;FMTTYPE=image/png:https://www.devtis.tourisme-aumale-blangy.fr/wp-content/uploads/bourse-aux-jouets-fond-©pixabay.png
END:VEVENT
BEGIN:VEVENT
DTSTART;TZID=Europe/Paris:20231118T193000
DTEND;TZID=Europe/Paris:20231119T010000
DTSTAMP:20260426T005617
CREATED:20230220T095840Z
LAST-MODIFIED:20231003T145428Z
UID:165529-1700335800-1700355600@www.devtis.tourisme-aumale-blangy.fr
SUMMARY:Dîner spectacle cabaret à Quincampoix Fleuzy
DESCRIPTION:Rendez-vous à 19h30 dans l’une des salles du Domaine. \nUn show unique en France \nPrésence du sosie officiel de Johnny Hallyday : Johnny Rock \nDans un spectacle fait de plumes\, de strass et de paillettes\, vous découvrirez les transformistes Miss Dallas et Diana pour vous transportez dans leur univers et vous émerveiller par leur talent et leurs costumes avec un Stand UP interactif\, des imitations et beaucoup de rires !! \nMenu adulte : 78€(tout compris) \nCoupe de bulles et ses mises en bouche / cassolette de ris de veau / sorbet / filet mignon de porc sauce forestière avec gratin et légumes / salade et fromage / trio de choux à la crème et sa coupe de bulles / café \n20.00€/Enfant (-12 ans) : 1 boisson / Plat / Dessert \nPour 4 personnes : 1 bouteille de blanc / 1 bouteille de rouge / Eau à volonté \nUniquement sur réservation avant le 13 novembre : 06 77 92 05 48
URL:https://www.devtis.tourisme-aumale-blangy.fr/agenda/diner-spectacle-cabaret-a-quincampoix-fleuzy/
LOCATION:Tropico\, 1 chemin de l'étang\, Quincampoix Fleuzy\, FRANCE\, 60220\, France
CATEGORIES:Adulte,Animations,Apéritif,Autre,Bal,Danse,Danse - Bal,Mise en avant sur l'accueil,Spectacle
ATTACH;FMTTYPE=image/jpeg:https://www.devtis.tourisme-aumale-blangy.fr/wp-content/uploads/2023/02/venetian-mask-g07eb10e59_1920.jpg
END:VEVENT
END:VCALENDAR