BEGIN:VCALENDAR
VERSION:2.0
PRODID:-//Office de tourisme Aumale blangy sur bresle - ECPv6.0.9//NONSGML v1.0//EN
CALSCALE:GREGORIAN
METHOD:PUBLISH
X-ORIGINAL-URL:https://www.devtis.tourisme-aumale-blangy.fr
X-WR-CALDESC:évènements pour Office de tourisme Aumale blangy sur bresle
REFRESH-INTERVAL;VALUE=DURATION:PT1H
X-Robots-Tag:noindex
X-PUBLISHED-TTL:PT1H
BEGIN:VTIMEZONE
TZID:Europe/Paris
BEGIN:DAYLIGHT
TZOFFSETFROM:+0100
TZOFFSETTO:+0200
TZNAME:CEST
DTSTART:20230326T010000
END:DAYLIGHT
BEGIN:STANDARD
TZOFFSETFROM:+0200
TZOFFSETTO:+0100
TZNAME:CET
DTSTART:20231029T010000
END:STANDARD
BEGIN:DAYLIGHT
TZOFFSETFROM:+0100
TZOFFSETTO:+0200
TZNAME:CEST
DTSTART:20240331T010000
END:DAYLIGHT
BEGIN:STANDARD
TZOFFSETFROM:+0200
TZOFFSETTO:+0100
TZNAME:CET
DTSTART:20241027T010000
END:STANDARD
END:VTIMEZONE
BEGIN:VEVENT
DTSTART;TZID=Europe/Paris:20231231T193000
DTEND;TZID=Europe/Paris:20240101T010000
DTSTAMP:20260425T213135
CREATED:20231114T102602Z
LAST-MODIFIED:20231114T102707Z
UID:254052-1704051000-1704070800@www.devtis.tourisme-aumale-blangy.fr
SUMMARY:Dîner spectacle cabaret de la Saint Sylvestre à Quincampoix Fleuzy
DESCRIPTION:Rendez-vous à 19h30 dans l’une des salles du Domaine. \nPrésence de la compagnie les petites folies\, le troupe Music-Hall\, de miss DallaS\, show transformistes \nAprès le spectacle\, animation dansante pour s’amuser jusqu’au bout de la nuit !! \nMenu adulte : 129€(tout compris) : \nKir royal et ses bouchées festives  \n*** \nRillettes de saumon en aumônière  \n*** \nSorbet  \n*** \nSuprême de pintade sauce écrevisse et ses accompagnements \n*** \nDuo de fromages et salade de saison \n*** \nCharlotte aux fruits rouges et sa coupe de bulles  \n*** \nCafé  \n30.00€/Enfant (-12 ans) : 1 boisson / plat / dessert \nPour 4 personnes : 1 bouteille de blanc / 1 bouteille de rouge / Eau à volonté \nUniquement sur réservation avant le 17 décembre: 06 77 92 05 48
URL:https://www.devtis.tourisme-aumale-blangy.fr/agenda/diner-spectacle-cabaret-de-la-saint-sylvestre-quincampoix-fleuzy-2/
LOCATION:Tropico\, 1 chemin de l'étang\, Quincampoix Fleuzy\, FRANCE\, 60220\, France
CATEGORIES:Adulte,Animations,Apéritif,Autre,Bal,Danse,Danse - Bal,Mise en avant sur l'accueil,Spectacle
ATTACH;FMTTYPE=image/jpeg:https://www.devtis.tourisme-aumale-blangy.fr/wp-content/uploads/2023/02/venetian-mask-g07eb10e59_1920.jpg
END:VEVENT
END:VCALENDAR