BEGIN:VCALENDAR
VERSION:2.0
PRODID:-//Office de tourisme Aumale blangy sur bresle - ECPv6.0.9//NONSGML v1.0//EN
CALSCALE:GREGORIAN
METHOD:PUBLISH
X-ORIGINAL-URL:https://www.devtis.tourisme-aumale-blangy.fr
X-WR-CALDESC:évènements pour Office de tourisme Aumale blangy sur bresle
REFRESH-INTERVAL;VALUE=DURATION:PT1H
X-Robots-Tag:noindex
X-PUBLISHED-TTL:PT1H
BEGIN:VTIMEZONE
TZID:Europe/Paris
BEGIN:DAYLIGHT
TZOFFSETFROM:+0100
TZOFFSETTO:+0200
TZNAME:CEST
DTSTART:20230326T010000
END:DAYLIGHT
BEGIN:STANDARD
TZOFFSETFROM:+0200
TZOFFSETTO:+0100
TZNAME:CET
DTSTART:20231029T010000
END:STANDARD
END:VTIMEZONE
BEGIN:VEVENT
DTSTART;TZID=Europe/Paris:20231125T143000
DTEND;TZID=Europe/Paris:20231125T180000
DTSTAMP:20260420T064600
CREATED:20230313T104908Z
LAST-MODIFIED:20231113T234905Z
UID:171716-1700922600-1700935200@www.devtis.tourisme-aumale-blangy.fr
SUMMARY:Rencontre avec l'auteur Jean Claude FLAMENT à Aumale
DESCRIPTION:Rendez-vous de 14h30 à 18h00 chez « Thé Bouquins » pour une rencontre dédicace avec :  \nJean Claude Flament\, ancien journaliste de la PQR\, se passionne pour l’histoire. Ses recherches sur les fusillés pour l’exemple aboutissent à la découverte de cinq sépultures de fusillés et permettent\, avec les familles\, l’exhumation de deux corps et leur retour à leur village natal. Membre d’une société savante\, il donne des conférences et participe à la publication de bulletins liés à ces rencontres. \nVous aurez la possibilité de vous restaurer sur place.\nInfos : 02 35 93 55 46\nMail : thebouquins@gmail.com \n\n\n                                    \n                                   \nReservation : Sans
URL:https://www.devtis.tourisme-aumale-blangy.fr/agenda/rencontre-avec-lauteur-jean-claude-flament-a-aumale-fmanor076v51q1qd/
LOCATION:2 Rue aux Juifs – AUMALE\, 2 Rue aux Juifs\, AUMALE\, 76390\, France
CATEGORIES:Autre,Commémoration,Contes et jeux,Exposition,Mise en avant sur l'accueil,Portes ouvertes
ATTACH;FMTTYPE=image/jpg:https://www.devtis.tourisme-aumale-blangy.fr/wp-content/uploads/tourinsoft/livres .jpg
ORGANIZER;CN="Th%C3%A9%20bouquins":MAILTO:thebouquins@gmail.com
END:VEVENT
END:VCALENDAR