BEGIN:VCALENDAR
VERSION:2.0
PRODID:-//Office de tourisme Aumale blangy sur bresle - ECPv6.0.9//NONSGML v1.0//EN
CALSCALE:GREGORIAN
METHOD:PUBLISH
X-ORIGINAL-URL:https://www.devtis.tourisme-aumale-blangy.fr
X-WR-CALDESC:évènements pour Office de tourisme Aumale blangy sur bresle
REFRESH-INTERVAL;VALUE=DURATION:PT1H
X-Robots-Tag:noindex
X-PUBLISHED-TTL:PT1H
BEGIN:VTIMEZONE
TZID:Europe/Paris
BEGIN:DAYLIGHT
TZOFFSETFROM:+0100
TZOFFSETTO:+0200
TZNAME:CEST
DTSTART:20230326T010000
END:DAYLIGHT
BEGIN:STANDARD
TZOFFSETFROM:+0200
TZOFFSETTO:+0100
TZNAME:CET
DTSTART:20231029T010000
END:STANDARD
END:VTIMEZONE
BEGIN:VEVENT
DTSTART;TZID=Europe/Paris:20230409T000100
DTEND;TZID=Europe/Paris:20230410T235900
DTSTAMP:20260426T024830
CREATED:20230306T105158Z
LAST-MODIFIED:20230322T122817Z
UID:167478-1680998460-1681171140@www.devtis.tourisme-aumale-blangy.fr
SUMMARY:Grande chasse à l'oeuf à Dancourt
DESCRIPTION:Le Far West aux autruches organise une grande chasse à l’oeuf de Pâques les 9 et 10 avril.\nDes œufs seront cachés un peu partout sur le parc\, le but est donc d’en retrouver un certain nombre et de venir l’échanger à l’accueil contre un sac rempli d’œuf en chocolat. \n!!!!!! NOUVEAU CETTE ANNEE\, LE GOLDEN OEUF !!!!!!\nUn golden œuf sera caché dans le parc\, il vous sera échangé contre un maxi œuf chocolat si vous le trouvez.\nL’activité vous est proposée à 10€/enfant. Elle comprend l’entrée du parc par enfant et un sac d’oeufs en chocolat identique les uns des autres \nOuvert à tous – Uniquement sur réservation via Messenger \n\n\n                                    \n                                   \n\n                                    \n                                   \nReservation : Obligatoire pour individuelObligatoire pour groupe
URL:https://www.devtis.tourisme-aumale-blangy.fr/agenda/grande-chasse-a-loeuf-a-dancourt-fmanor076v51pnps/
LOCATION:Impasse Maurice Toussaint – DANCOURT\, Impasse Maurice Toussaint\, DANCOURT\, 76340\, France
CATEGORIES:Autre,Dégustation,Mise en avant sur l'accueil,Portes ouvertes,Tradition et folklore
ATTACH;FMTTYPE=image/jpg:https://www.devtis.tourisme-aumale-blangy.fr/wp-content/uploads/tourinsoft/chasse aux oeufs.jpg
END:VEVENT
END:VCALENDAR