BEGIN:VCALENDAR
VERSION:2.0
PRODID:-//Office de tourisme Aumale blangy sur bresle - ECPv6.0.9//NONSGML v1.0//EN
CALSCALE:GREGORIAN
METHOD:PUBLISH
X-ORIGINAL-URL:https://www.devtis.tourisme-aumale-blangy.fr
X-WR-CALDESC:évènements pour Office de tourisme Aumale blangy sur bresle
REFRESH-INTERVAL;VALUE=DURATION:PT1H
X-Robots-Tag:noindex
X-PUBLISHED-TTL:PT1H
BEGIN:VTIMEZONE
TZID:Europe/Paris
BEGIN:DAYLIGHT
TZOFFSETFROM:+0100
TZOFFSETTO:+0200
TZNAME:CEST
DTSTART:20230326T010000
END:DAYLIGHT
BEGIN:STANDARD
TZOFFSETFROM:+0200
TZOFFSETTO:+0100
TZNAME:CET
DTSTART:20231029T010000
END:STANDARD
END:VTIMEZONE
BEGIN:VEVENT
DTSTART;TZID=Europe/Paris:20230916T200000
DTEND;TZID=Europe/Paris:20230916T235900
DTSTAMP:20260425T180200
CREATED:20230104T162343Z
LAST-MODIFIED:20230822T224904Z
UID:163443-1694894400-1694908740@www.devtis.tourisme-aumale-blangy.fr
SUMMARY:Cochonnaille à Bazinval
DESCRIPTION:L’accueil des personnes se fera à partir de 20h à la salle des fêtes\n20€/adulte : kir – terrine de campagne – boudin noir – côte de porc et sa garniture – saucisse plate – salade et fromage – dessert et café\n10€/enfant (-10 ans) : terrine de campagne – côte de porc ou saucisse plate – fromage – dessert – boisson (33 cl) et une friandise\nSoirée animée par Eric Speaker\nRéservation avant le mercredi 13 septembre – places limitées\nInfos auprès de Romaric TETU  06 18 75 60 21 \n\n\n                                    \n                                   \nReservation : Avant le 13/09/2023Obligatoire pour groupe
URL:https://www.devtis.tourisme-aumale-blangy.fr/agenda/cochonnaille-a-bazinval-fmanor076v50v6u5/
LOCATION:– BAZINVAL\, BAZINVAL\, 76340\, France
CATEGORIES:Apéritif,Autre,Dégustation,Mise en avant sur l'accueil
END:VEVENT
END:VCALENDAR